BEGIN:VCALENDAR
VERSION:2.0
PRODID:-//Great Tennis - ECPv5.7.0//NONSGML v1.0//EN
CALSCALE:GREGORIAN
METHOD:PUBLISH
X-WR-CALNAME:Great Tennis
X-ORIGINAL-URL:http://greattennis.co.za
X-WR-CALDESC:Events for Great Tennis
BEGIN:VTIMEZONE
TZID:UTC
BEGIN:STANDARD
TZOFFSETFROM:+0000
TZOFFSETTO:+0000
TZNAME:UTC
DTSTART:20220101T000000
END:STANDARD
END:VTIMEZONE
BEGIN:VEVENT
DTSTART;TZID=UTC:20221104T141500
DTEND;TZID=UTC:20221104T163000
DTSTAMP:20260419T141905
CREATED:20221006T091250Z
LAST-MODIFIED:20221006T091250Z
UID:2167-1667571300-1667579400@greattennis.co.za
SUMMARY:Great Orange Ball  Inter School Tournament
DESCRIPTION:
URL:http://greattennis.co.za/event/great-orange-ball-inter-school-tournament/
LOCATION:Great Courts\, 1 York Street\, Bos En Dal\, George\, Western Cape\, 6529\, South Africa
CATEGORIES:Tournament
END:VEVENT
END:VCALENDAR